BEGIN:VCALENDAR
VERSION:2.0
PRODID:-//Massachusetts Commission on the Status of Women - ECPv6.15.20//NONSGML v1.0//EN
CALSCALE:GREGORIAN
METHOD:PUBLISH
X-ORIGINAL-URL:https://masscsw.org
X-WR-CALDESC:Events for Massachusetts Commission on the Status of Women
REFRESH-INTERVAL;VALUE=DURATION:PT1H
X-Robots-Tag:noindex
X-PUBLISHED-TTL:PT1H
BEGIN:VTIMEZONE
TZID:America/New_York
BEGIN:DAYLIGHT
TZOFFSETFROM:-0500
TZOFFSETTO:-0400
TZNAME:EDT
DTSTART:20240310T070000
END:DAYLIGHT
BEGIN:STANDARD
TZOFFSETFROM:-0400
TZOFFSETTO:-0500
TZNAME:EST
DTSTART:20241103T060000
END:STANDARD
BEGIN:DAYLIGHT
TZOFFSETFROM:-0500
TZOFFSETTO:-0400
TZNAME:EDT
DTSTART:20250309T070000
END:DAYLIGHT
BEGIN:STANDARD
TZOFFSETFROM:-0400
TZOFFSETTO:-0500
TZNAME:EST
DTSTART:20251102T060000
END:STANDARD
BEGIN:DAYLIGHT
TZOFFSETFROM:-0500
TZOFFSETTO:-0400
TZNAME:EDT
DTSTART:20260308T070000
END:DAYLIGHT
BEGIN:STANDARD
TZOFFSETFROM:-0400
TZOFFSETTO:-0500
TZNAME:EST
DTSTART:20261101T060000
END:STANDARD
END:VTIMEZONE
BEGIN:VEVENT
DTSTART;TZID=America/New_York:20250617T160000
DTEND;TZID=America/New_York:20250617T173000
DTSTAMP:20260425T094447
CREATED:20250612T153519Z
LAST-MODIFIED:20250612T153524Z
UID:10001138-1750176000-1750181400@masscsw.org
SUMMARY:Executive Committee Meeting
DESCRIPTION:Rain date: Virtual – this event will take place rain or shine. \n\n\n\nFees: Free and open to all.\n\n\n\n\nFor FY25\, MCSW’s monthly Executive Committee Meeting is held on the Third Tuesday of every month from 4:00pm – 5:30pm ET. Chaired by Commissioner Mary-dith Tuitt. Register to join. \n\n\n\n\n\n6-17-2025 Executive Committee AgendaDownload
URL:https://masscsw.org/event/executive-committee-meeting-27/
CATEGORIES:State Commissions,Executive Committee
ATTACH;FMTTYPE=image/png:https://masscsw.org/wp-content/uploads/2023/09/Committee-Meeting-Banner-Evergreen.png
END:VEVENT
END:VCALENDAR