BEGIN:VCALENDAR
VERSION:2.0
PRODID:-//Massachusetts Commission on the Status of Women - ECPv6.15.20//NONSGML v1.0//EN
CALSCALE:GREGORIAN
METHOD:PUBLISH
X-ORIGINAL-URL:https://masscsw.org
X-WR-CALDESC:Events for Massachusetts Commission on the Status of Women
REFRESH-INTERVAL;VALUE=DURATION:PT1H
X-Robots-Tag:noindex
X-PUBLISHED-TTL:PT1H
BEGIN:VTIMEZONE
TZID:America/New_York
BEGIN:DAYLIGHT
TZOFFSETFROM:-0500
TZOFFSETTO:-0400
TZNAME:EDT
DTSTART:20250309T070000
END:DAYLIGHT
BEGIN:STANDARD
TZOFFSETFROM:-0400
TZOFFSETTO:-0500
TZNAME:EST
DTSTART:20251102T060000
END:STANDARD
BEGIN:DAYLIGHT
TZOFFSETFROM:-0500
TZOFFSETTO:-0400
TZNAME:EDT
DTSTART:20260308T070000
END:DAYLIGHT
BEGIN:STANDARD
TZOFFSETFROM:-0400
TZOFFSETTO:-0500
TZNAME:EST
DTSTART:20261101T060000
END:STANDARD
BEGIN:DAYLIGHT
TZOFFSETFROM:-0500
TZOFFSETTO:-0400
TZNAME:EDT
DTSTART:20270314T070000
END:DAYLIGHT
BEGIN:STANDARD
TZOFFSETFROM:-0400
TZOFFSETTO:-0500
TZNAME:EST
DTSTART:20271107T060000
END:STANDARD
END:VTIMEZONE
BEGIN:VEVENT
DTSTART;TZID=America/New_York:20260505T173000
DTEND;TZID=America/New_York:20260505T183000
DTSTAMP:20260425T130140
CREATED:20260224T160305Z
LAST-MODIFIED:20260304T171852Z
UID:10001331-1778002200-1778005800@masscsw.org
SUMMARY:Legislative and Public Policy Committee Meeting
DESCRIPTION:Rain date: Virtual – this event will take place rain or shine. \n\n\n\nFees: Free and open to all.\n\n\n\n\nFor FY26\, MCSW’s monthly Legislative and Public Policy Committee Meeting is held on the First Tuesday of every month from 5:30-6:30pm ET.  Chaired by Commissioner Guimel DeCarvalho.
URL:https://masscsw.org/event/legislative-and-public-policy-committee-meeting-32/2026-05-05/
CATEGORIES:State Commissions,Legislative & Public Policy Committee
ATTACH;FMTTYPE=image/png:https://masscsw.org/wp-content/uploads/2023/09/Committee-Meeting-Banner-Evergreen-2.png
END:VEVENT
BEGIN:VEVENT
DTSTART;TZID=America/New_York:20260505T190000
DTEND;TZID=America/New_York:20260505T200000
DTSTAMP:20260425T130140
CREATED:20250707T154627Z
LAST-MODIFIED:20250707T154630Z
UID:10000352-1778007600-1778011200@masscsw.org
SUMMARY:Regional Chairs Meeting
DESCRIPTION:Rain date: Virtual – this event will take place rain or shine. \n\n\n\nFees: Free and open to all.\n\n\n\n\nFor FY26\, MCSW’s monthly Regional Chairs Meeting is held on the first Tuesday of every month from 7:00 – 8:00pm ET. Register to join.
URL:https://masscsw.org/event/regional-chairs-meeting-4/2026-05-05/
CATEGORIES:State Commissions,Regional Chairs Meeting
ATTACH;FMTTYPE=image/png:https://masscsw.org/wp-content/uploads/2023/09/Committee-Meeting-Banner-Evergreen-3.png
END:VEVENT
END:VCALENDAR