BEGIN:VCALENDAR
VERSION:2.0
PRODID:-//Massachusetts Commission on the Status of Women - ECPv6.15.20//NONSGML v1.0//EN
CALSCALE:GREGORIAN
METHOD:PUBLISH
X-ORIGINAL-URL:https://masscsw.org
X-WR-CALDESC:Events for Massachusetts Commission on the Status of Women
REFRESH-INTERVAL;VALUE=DURATION:PT1H
X-Robots-Tag:noindex
X-PUBLISHED-TTL:PT1H
BEGIN:VTIMEZONE
TZID:America/New_York
BEGIN:DAYLIGHT
TZOFFSETFROM:-0500
TZOFFSETTO:-0400
TZNAME:EDT
DTSTART:20240310T070000
END:DAYLIGHT
BEGIN:STANDARD
TZOFFSETFROM:-0400
TZOFFSETTO:-0500
TZNAME:EST
DTSTART:20241103T060000
END:STANDARD
BEGIN:DAYLIGHT
TZOFFSETFROM:-0500
TZOFFSETTO:-0400
TZNAME:EDT
DTSTART:20250309T070000
END:DAYLIGHT
BEGIN:STANDARD
TZOFFSETFROM:-0400
TZOFFSETTO:-0500
TZNAME:EST
DTSTART:20251102T060000
END:STANDARD
BEGIN:DAYLIGHT
TZOFFSETFROM:-0500
TZOFFSETTO:-0400
TZNAME:EDT
DTSTART:20260308T070000
END:DAYLIGHT
BEGIN:STANDARD
TZOFFSETFROM:-0400
TZOFFSETTO:-0500
TZNAME:EST
DTSTART:20261101T060000
END:STANDARD
BEGIN:DAYLIGHT
TZOFFSETFROM:-0500
TZOFFSETTO:-0400
TZNAME:EDT
DTSTART:20270314T070000
END:DAYLIGHT
BEGIN:STANDARD
TZOFFSETFROM:-0400
TZOFFSETTO:-0500
TZNAME:EST
DTSTART:20271107T060000
END:STANDARD
END:VTIMEZONE
BEGIN:VEVENT
DTSTART;TZID=America/New_York:20260421T163000
DTEND;TZID=America/New_York:20260421T173000
DTSTAMP:20260423T044507
CREATED:20260416T202545Z
LAST-MODIFIED:20260416T202548Z
UID:10001934-1776789000-1776792600@masscsw.org
SUMMARY:Executive Committee Meeting
DESCRIPTION:Rain date: Virtual – this event will take place rain or shine. \n\n\n\nFees: Free and open to all.\n\n\n\n\nFor FY26\, MCSW’s monthly Executive Committee Meeting is held on the Third Tuesday of every month from 4:30pm – 5:30pm ET. Chaired by Commissioner Mary-dith Tuitt. Register to join. \n\n\n\n\n\n4-21-2026 Executive Committee AgendaDownload
URL:https://masscsw.org/event/executive-committee-meeting-36/
CATEGORIES:State Commissions,Executive Committee
ATTACH;FMTTYPE=image/png:https://masscsw.org/wp-content/uploads/2023/09/Committee-Meeting-Banner-Evergreen.png
END:VEVENT
BEGIN:VEVENT
DTSTART;TZID=America/New_York:20260414T160000
DTEND;TZID=America/New_York:20260414T170000
DTSTAMP:20260423T044507
CREATED:20260410T173919Z
LAST-MODIFIED:20260410T173922Z
UID:10001871-1776182400-1776186000@masscsw.org
SUMMARY:Program and Planning Committee Meeting
DESCRIPTION:Rain date: Virtual – this event will take place rain or shine.\n\n\n\nFees: Free and open to all.\n\n\n\n\nFor FY26\, MCSW’s monthly Program and Planning Committee Meeting is held on the Second Tuesday of every month from 4:00 – 5:00pm ET.  Chaired by Commissioner Kim Shea. Register to join. \n\n\n\n\n\n4.14.2026 Program Planning AgendaDownload
URL:https://masscsw.org/event/program-and-planning-committee-meeting-29/
CATEGORIES:State Commissions,Program & Planning Committee
ATTACH;FMTTYPE=image/png:https://masscsw.org/wp-content/uploads/2023/09/Committee-Meeting-Banner-Evergreen-4.png
END:VEVENT
BEGIN:VEVENT
DTSTART;TZID=America/New_York:20260408T160000
DTEND;TZID=America/New_York:20260408T170000
DTSTAMP:20260423T044507
CREATED:20260408T140133Z
LAST-MODIFIED:20260408T140135Z
UID:10001996-1775664000-1775667600@masscsw.org
SUMMARY:Finance Committee Meeting
DESCRIPTION:For FY26\, MCSW’s Monthly Finance Committee Meeting is held on the Second Wednesday of every month from 4:00pm – 5:00pm. Chaired by MCSW Treasurer and Finance Chair Audrey Hall. Register to join. \n\n\n\n\n\n04-08-2026 Finance Committee AgendaDownload
URL:https://masscsw.org/event/finance-committee-meeting-32/
CATEGORIES:State Commissions,Finance Committee
ATTACH;FMTTYPE=image/png:https://masscsw.org/wp-content/uploads/2023/09/Committee-Meeting-Banner-Evergreen-1.png
END:VEVENT
BEGIN:VEVENT
DTSTART;TZID=America/New_York:20260407T190000
DTEND;TZID=America/New_York:20260407T200000
DTSTAMP:20260423T044507
CREATED:20250707T154627Z
LAST-MODIFIED:20250707T154630Z
UID:10000351-1775588400-1775592000@masscsw.org
SUMMARY:Regional Chairs Meeting
DESCRIPTION:Rain date: Virtual – this event will take place rain or shine. \n\n\n\nFees: Free and open to all.\n\n\n\n\nFor FY26\, MCSW’s monthly Regional Chairs Meeting is held on the first Tuesday of every month from 7:00 – 8:00pm ET. Register to join.
URL:https://masscsw.org/event/regional-chairs-meeting-4/2026-04-07/
CATEGORIES:State Commissions,Regional Chairs Meeting
ATTACH;FMTTYPE=image/png:https://masscsw.org/wp-content/uploads/2023/09/Committee-Meeting-Banner-Evergreen-3.png
END:VEVENT
BEGIN:VEVENT
DTSTART;TZID=America/New_York:20260407T173000
DTEND;TZID=America/New_York:20260407T183000
DTSTAMP:20260423T044507
CREATED:20260323T180239Z
LAST-MODIFIED:20260331T193320Z
UID:10001330-1775583000-1775586600@masscsw.org
SUMMARY:Legislative and Public Policy Committee Meeting
DESCRIPTION:Rain date: Virtual – this event will take place rain or shine. \n\n\n\nFees: Free and open to all.\n\n\n\n\nFor FY26\, MCSW’s monthly Legislative and Public Policy Committee Meeting is held on the First Tuesday of every month from 5:30-6:30pm ET.  Chaired by Commissioner Guimel DeCarvalho. \n\n\n\n\n\n\n\nLegPP Agenda 4.7.26Download
URL:https://masscsw.org/event/legislative-and-public-policy-committee-meeting-34/
CATEGORIES:State Commissions,Legislative & Public Policy Committee
ATTACH;FMTTYPE=image/png:https://masscsw.org/wp-content/uploads/2023/09/Committee-Meeting-Banner-Evergreen-2.png
END:VEVENT
BEGIN:VEVENT
DTSTART;TZID=America/New_York:20260324T180000
DTEND;TZID=America/New_York:20260324T200000
DTSTAMP:20260423T044507
CREATED:20260211T191439Z
LAST-MODIFIED:20260324T203710Z
UID:10002063-1774375200-1774382400@masscsw.org
SUMMARY:MCSW Public Hearing: Plymouth County
DESCRIPTION:Rain date: This event is rain or shine.Fees: This event is free and open to all. \n\n\n\n\n\n\n\nJoin the Massachusetts Commission on the Status of Women (MCSW) and the Plymouth County Commission on the Status of Women (PCCSW) for an upcoming hybrid public hearing focusing on issues affecting women and girls in the Commonwealth – this time at the Brockton Campus of Massasoit Community College! \n\n\n\nYour input on issues that matter to you directly informs the MCSW legislative agenda and policy priorities. Join us and make your voice heard!  \n\n\n\nThe event is free and open to the public and will be livestreamed for those who cannot attend in person. Residents\, legislators\, and other community stakeholders from Plymouth County and across the Commonwealth are invited to attend\, and testimony is open to any member of the public\, including elected officials. We’re asking anyone interested in issues that impact women\, children\, and families to share their experiences\, to learn from one another\, and create change\, together. Register to indicate any language or accessibility needs you may have. \n\n\n\nWhat: Hybrid Public HearingWhen: Tuesday\, March 24\, 2026Time: 6:00 – 8:00pmWhere: Brockton Campus of Massasoit Community CollegeOne Massasoit Blvd. Brockton\, MA 02302 \n\n\n\nIf you are joining us in person\, we will be at the Massasoit Community College – Brockton Campus Student Lounge\, 1 Massasoit Blvd. Brockton\, MA 02302. \n\n\n\nToday’s Meeting and Public Hearing will take place in the MCC Student Center\, marked on the map as ‘SC’. The closest Visitor Parking Lot is located by the Administration Building marked on the campus map as ‘A.” Once in the Student Center (SC) you will be looking for the Student Lounge (Room SC1883) on the Ground Level. \n\n\n\n\n\n\n\nOther Interpretation Services (D/deaf\, hard of Briefing\, language interpretation): \n\n\n\nIf you are a D/deaf or person hard of Breifing with a disability who requires an accommodation or are someone who would benefit from language interpretation in a language other than English (ex: Spanish\, Portuguese\, etc.)\, please indicate your need on the registration form. \n\n\n\nPrivacy Matters to Us: \n\n\n\nAttendees names and images may become visible during the event. You’re welcome to use the “rename” function on Zoom if you do not want your name to appear. All private chats between organizers and attendees are not recorded. By registering for this event\, you give your permission for your likeness to be included in any and all materials created by MCSW\, including but not limited to print\, electronic\, and social media.
URL:https://masscsw.org/event/mcsw-public-hearing-plymouth-county/
LOCATION:Brockton Campus of Massasoit Community College\, One Massasoit Blvd\, Brockton\, Massachusetts\, 02302\, United States
CATEGORIES:Public Hearings,Regional Commissions,State Commissions,Special Events,Plymouth County
ATTACH;FMTTYPE=image/png:https://masscsw.org/wp-content/uploads/2026/02/Mcsw-Plymouth-Hybrid-Public-Hearing.png
END:VEVENT
BEGIN:VEVENT
DTSTART;TZID=America/New_York:20260324T160000
DTEND;TZID=America/New_York:20260324T173000
DTSTAMP:20260423T044507
CREATED:20260320T145105Z
LAST-MODIFIED:20260320T145106Z
UID:10001531-1774368000-1774373400@masscsw.org
SUMMARY:Full Commission Meeting
DESCRIPTION:March 24 2026 Full Commission AgendaDownload\n\n\n\nFor FY26\, MCSW’s Monthly Full Commission Meeting is held on the Fourth Tuesday of every month from 4:30 – 6:00pm ET.  Chaired by Commissioner Mary-dith Tuitt. Register to join.
URL:https://masscsw.org/event/full-commission-meeting-32/
CATEGORIES:Full Commission,State Commissions
ATTACH;FMTTYPE=image/png:https://masscsw.org/wp-content/uploads/2023/09/Committee-Meeting-Banner-Evergreen-5.png
END:VEVENT
BEGIN:VEVENT
DTSTART;TZID=America/New_York:20260324T160000
DTEND;TZID=America/New_York:20260324T173000
DTSTAMP:20260423T044507
CREATED:20240920T180545Z
LAST-MODIFIED:20260406T140818Z
UID:10002082-1774368000-1774373400@masscsw.org
SUMMARY:Full Commission Meeting
DESCRIPTION:For FY26\, MCSW’s Monthly Full Commission Meeting is held on the Fourth Tuesday of every month from 4:30 – 6:00pm ET.  Chaired by Commissioner Mary-dith Tuitt. Register to join. \n\n\n\n\n\n9-24-2024 Full Commission Agenda (1)Download
URL:https://masscsw.org/event/full-commission-meeting-16/2026-03-24/
CATEGORIES:Full Commission,State Commissions
ATTACH;FMTTYPE=image/png:https://masscsw.org/wp-content/uploads/2023/09/Committee-Meeting-Banner-Evergreen-5.png
END:VEVENT
BEGIN:VEVENT
DTSTART;TZID=America/New_York:20260317T163000
DTEND;TZID=America/New_York:20260317T173000
DTSTAMP:20260423T044507
CREATED:20260313T171239Z
LAST-MODIFIED:20260313T171243Z
UID:10001933-1773765000-1773768600@masscsw.org
SUMMARY:Executive Committee Meeting
DESCRIPTION:Rain date: Virtual – this event will take place rain or shine. \n\n\n\nFees: Free and open to all.\n\n\n\n\nFor FY26\, MCSW’s monthly Executive Committee Meeting is held on the Third Tuesday of every month from 4:30pm – 5:30pm ET. Chaired by Commissioner Mary-dith Tuitt. Register to join. \n\n\n\n\n\n3-17-2026 Executive Committee AgendaDownload
URL:https://masscsw.org/event/executive-committee-meeting-35/
CATEGORIES:State Commissions,Executive Committee
ATTACH;FMTTYPE=image/png:https://masscsw.org/wp-content/uploads/2023/09/Committee-Meeting-Banner-Evergreen.png
END:VEVENT
BEGIN:VEVENT
DTSTART;TZID=America/New_York:20260311T160000
DTEND;TZID=America/New_York:20260311T170000
DTSTAMP:20260423T044507
CREATED:20260311T173500Z
LAST-MODIFIED:20260311T173503Z
UID:10001995-1773244800-1773248400@masscsw.org
SUMMARY:Finance Committee Meeting
DESCRIPTION:For FY26\, MCSW’s Monthly Finance Committee Meeting is held on the Second Wednesday of every month from 4:00pm – 5:00pm. Chaired by MCSW Treasurer and Finance Chair Audrey Hall. Register to join. \n\n\n\n\n\n03-11-2026 Finance Committee AgendaDownload
URL:https://masscsw.org/event/finance-committee-meeting-31/
CATEGORIES:State Commissions,Finance Committee
ATTACH;FMTTYPE=image/png:https://masscsw.org/wp-content/uploads/2023/09/Committee-Meeting-Banner-Evergreen-1.png
END:VEVENT
BEGIN:VEVENT
DTSTART;TZID=America/New_York:20260310T160000
DTEND;TZID=America/New_York:20260310T170000
DTSTAMP:20260423T044507
CREATED:20260306T135819Z
LAST-MODIFIED:20260307T141417Z
UID:10001870-1773158400-1773162000@masscsw.org
SUMMARY:Program and Planning Committee Meeting
DESCRIPTION:Rain date: Virtual – this event will take place rain or shine.\n\n\n\nFees: Free and open to all.\n\n\n\n\nFor FY26\, MCSW’s monthly Program and Planning Committee Meeting is held on the Second Tuesday of every month from 4:00 – 5:00pm ET.  Chaired by Commissioner Kim Shea. Register to join. \n\n\n\n\n\n3.10.2026 Program Planning Agenda  (2)Download
URL:https://masscsw.org/event/program-and-planning-committee-meeting-28/
CATEGORIES:State Commissions,Program & Planning Committee
ATTACH;FMTTYPE=image/png:https://masscsw.org/wp-content/uploads/2023/09/Committee-Meeting-Banner-Evergreen-4.png
END:VEVENT
BEGIN:VEVENT
DTSTART;TZID=America/New_York:20260303T190000
DTEND;TZID=America/New_York:20260303T200000
DTSTAMP:20260423T044507
CREATED:20250707T154627Z
LAST-MODIFIED:20250707T154630Z
UID:10000350-1772564400-1772568000@masscsw.org
SUMMARY:Regional Chairs Meeting
DESCRIPTION:Rain date: Virtual – this event will take place rain or shine. \n\n\n\nFees: Free and open to all.\n\n\n\n\nFor FY26\, MCSW’s monthly Regional Chairs Meeting is held on the first Tuesday of every month from 7:00 – 8:00pm ET. Register to join.
URL:https://masscsw.org/event/regional-chairs-meeting-4/2026-03-03/
CATEGORIES:State Commissions,Regional Chairs Meeting
ATTACH;FMTTYPE=image/png:https://masscsw.org/wp-content/uploads/2023/09/Committee-Meeting-Banner-Evergreen-3.png
END:VEVENT
BEGIN:VEVENT
DTSTART;TZID=America/New_York:20260303T173000
DTEND;TZID=America/New_York:20260303T183000
DTSTAMP:20260423T044507
CREATED:20260227T213013Z
LAST-MODIFIED:20260227T213017Z
UID:10001329-1772559000-1772562600@masscsw.org
SUMMARY:Legislative and Public Policy Committee Meeting
DESCRIPTION:Rain date: Virtual – this event will take place rain or shine. \n\n\n\nFees: Free and open to all.\n\n\n\n\nFor FY26\, MCSW’s monthly Legislative and Public Policy Committee Meeting is held on the First Tuesday of every month from 5:30-6:30pm ET.  Chaired by Commissioner Guimel DeCarvalho. \n\n\n\n\n\n\n\n3.3.26 Legislative Meeting AgendaDownload
URL:https://masscsw.org/event/legislative-and-public-policy-committee-meeting-33/
CATEGORIES:State Commissions,Legislative & Public Policy Committee
ATTACH;FMTTYPE=image/png:https://masscsw.org/wp-content/uploads/2023/09/Committee-Meeting-Banner-Evergreen-2.png
END:VEVENT
BEGIN:VEVENT
DTSTART;TZID=America/New_York:20260224T163000
DTEND;TZID=America/New_York:20260224T180000
DTSTAMP:20260423T044507
CREATED:20260220T185538Z
LAST-MODIFIED:20260224T155250Z
UID:10001530-1771950600-1771956000@masscsw.org
SUMMARY:Full Commission Meeting
DESCRIPTION:For FY26\, MCSW’s Monthly Full Commission Meeting is held on the Fourth Tuesday of every month from 4:30 – 6:00pm ET.  Chaired by Commissioner Mary-dith Tuitt. Register to join. \n\n\n\n\n\nFebruary 24 2026 Full Commission AgendaDownload
URL:https://masscsw.org/event/full-commission-meeting-31/
CATEGORIES:Full Commission,State Commissions
ATTACH;FMTTYPE=image/png:https://masscsw.org/wp-content/uploads/2023/09/Committee-Meeting-Banner-Evergreen-5.png
END:VEVENT
BEGIN:VEVENT
DTSTART;TZID=America/New_York:20260224T160000
DTEND;TZID=America/New_York:20260224T173000
DTSTAMP:20260423T044507
CREATED:20240920T180545Z
LAST-MODIFIED:20260406T140818Z
UID:10002081-1771948800-1771954200@masscsw.org
SUMMARY:Full Commission Meeting
DESCRIPTION:For FY26\, MCSW’s Monthly Full Commission Meeting is held on the Fourth Tuesday of every month from 4:30 – 6:00pm ET.  Chaired by Commissioner Mary-dith Tuitt. Register to join. \n\n\n\n\n\n9-24-2024 Full Commission Agenda (1)Download
URL:https://masscsw.org/event/full-commission-meeting-16/2026-02-24/
CATEGORIES:Full Commission,State Commissions
ATTACH;FMTTYPE=image/png:https://masscsw.org/wp-content/uploads/2023/09/Committee-Meeting-Banner-Evergreen-5.png
END:VEVENT
BEGIN:VEVENT
DTSTART;TZID=America/New_York:20260217T163000
DTEND;TZID=America/New_York:20260217T173000
DTSTAMP:20260423T044507
CREATED:20260212T173407Z
LAST-MODIFIED:20260212T175650Z
UID:10001932-1771345800-1771349400@masscsw.org
SUMMARY:Executive Committee Meeting
DESCRIPTION:Rain date: Virtual – this event will take place rain or shine. \n\n\n\nFees: Free and open to all.\n\n\n\n\nFor FY26\, MCSW’s monthly Executive Committee Meeting is held on the Third Tuesday of every month from 4:30pm – 5:30pm ET. Chaired by Commissioner Mary-dith Tuitt. Register to join. \n\n\n\n\n\n2-17-2026 Executive Committee Agenda (2)Download
URL:https://masscsw.org/event/executive-committee-meeting-34/
CATEGORIES:State Commissions,Executive Committee
ATTACH;FMTTYPE=image/png:https://masscsw.org/wp-content/uploads/2023/09/Committee-Meeting-Banner-Evergreen.png
END:VEVENT
BEGIN:VEVENT
DTSTART;TZID=America/New_York:20260211T160000
DTEND;TZID=America/New_York:20260211T170000
DTSTAMP:20260423T044507
CREATED:20260210T151737Z
LAST-MODIFIED:20260210T151743Z
UID:10001994-1770825600-1770829200@masscsw.org
SUMMARY:Finance Committee Meeting
DESCRIPTION:For FY26\, MCSW’s Monthly Finance Committee Meeting is held on the Second Wednesday of every month from 4:00pm – 5:00pm. Chaired by MCSW Treasurer and Finance Chair Audrey Hall. Register to join. \n\n\n\n\n\n02.11.2026 AgendaDownload
URL:https://masscsw.org/event/finance-committee-meeting-30/
CATEGORIES:State Commissions,Finance Committee
ATTACH;FMTTYPE=image/png:https://masscsw.org/wp-content/uploads/2023/09/Committee-Meeting-Banner-Evergreen-1.png
END:VEVENT
BEGIN:VEVENT
DTSTART;TZID=America/New_York:20260210T100000
DTEND;TZID=America/New_York:20260210T110000
DTSTAMP:20260423T044507
CREATED:20260206T155400Z
LAST-MODIFIED:20260218T155535Z
UID:10001869-1770717600-1770721200@masscsw.org
SUMMARY:Program and Planning Committee Meeting- Revised Date
DESCRIPTION:This meeting was initially scheduled for 2/10 and rescheduled for 2/20\n\n\n\nFees: Free and open to all.\n\n\n\n\nFor FY26\, MCSW’s monthly Program and Planning Committee Meeting is held on the Second Tuesday of every month from 4:00 – 10:00am ET.  Chaired by Commissioner Kim Shea. Register to join. \n\n\n\n\n\n\n\n2.20.2026 Program Planning AgendaDownload
URL:https://masscsw.org/event/program-and-planning-committee-meeting-27/
CATEGORIES:State Commissions,Program & Planning Committee
ATTACH;FMTTYPE=image/png:https://masscsw.org/wp-content/uploads/2023/09/Committee-Meeting-Banner-Evergreen-4.png
END:VEVENT
BEGIN:VEVENT
DTSTART;TZID=America/New_York:20260203T190000
DTEND;TZID=America/New_York:20260203T200000
DTSTAMP:20260423T044507
CREATED:20250707T154627Z
LAST-MODIFIED:20250707T154630Z
UID:10000349-1770145200-1770148800@masscsw.org
SUMMARY:Regional Chairs Meeting
DESCRIPTION:Rain date: Virtual – this event will take place rain or shine. \n\n\n\nFees: Free and open to all.\n\n\n\n\nFor FY26\, MCSW’s monthly Regional Chairs Meeting is held on the first Tuesday of every month from 7:00 – 8:00pm ET. Register to join.
URL:https://masscsw.org/event/regional-chairs-meeting-4/2026-02-03/
CATEGORIES:State Commissions,Regional Chairs Meeting
ATTACH;FMTTYPE=image/png:https://masscsw.org/wp-content/uploads/2023/09/Committee-Meeting-Banner-Evergreen-3.png
END:VEVENT
BEGIN:VEVENT
DTSTART;TZID=America/New_York:20260203T173000
DTEND;TZID=America/New_York:20260203T183000
DTSTAMP:20260423T044507
CREATED:20260202T150211Z
LAST-MODIFIED:20260202T150217Z
UID:10001328-1770139800-1770143400@masscsw.org
SUMMARY:Legislative and Public Policy Committee Meeting
DESCRIPTION:Rain date: Virtual – this event will take place rain or shine. \n\n\n\nFees: Free and open to all.\n\n\n\n\nFor FY26\, MCSW’s monthly Legislative and Public Policy Committee Meeting is held on the First Tuesday of every month from 5:30-6:30pm ET.  Chaired by Commissioner Guimel DeCarvalho. \n\n\n\n\n\n\n\n2.3.26 LegPP Agenda DraftDownload
URL:https://masscsw.org/event/legislative-and-public-policy-committee-meeting-31/
CATEGORIES:State Commissions,Legislative & Public Policy Committee
ATTACH;FMTTYPE=image/png:https://masscsw.org/wp-content/uploads/2023/09/Committee-Meeting-Banner-Evergreen-2.png
END:VEVENT
BEGIN:VEVENT
DTSTART;TZID=America/New_York:20260127T163000
DTEND;TZID=America/New_York:20260127T180000
DTSTAMP:20260423T044507
CREATED:20260123T201204Z
LAST-MODIFIED:20260203T193859Z
UID:10001529-1769531400-1769536800@masscsw.org
SUMMARY:January Full Commission Meeting- Rescheduled
DESCRIPTION:For FY26\, MCSW’s Monthly Full Commission Meeting is held on the Fourth Tuesday of every month from 4:30 – 6:00pm ET.  Chaired by Commissioner Mary-dith Tuitt. Register to join. \n\n\n\n1/27/2026 Status Update: Meeting Rescheduled to Monday\, February 9th\, 2026. \n\n\n\n\n\n2-9-2026 RESCHEDULE January 2026 Full Commission Agenda PDFDownload
URL:https://masscsw.org/event/full-commission-meeting-30/
CATEGORIES:Full Commission,State Commissions
ATTACH;FMTTYPE=image/png:https://masscsw.org/wp-content/uploads/2023/09/Committee-Meeting-Banner-Evergreen-5.png
END:VEVENT
BEGIN:VEVENT
DTSTART;TZID=America/New_York:20260127T160000
DTEND;TZID=America/New_York:20260127T173000
DTSTAMP:20260423T044507
CREATED:20240920T180545Z
LAST-MODIFIED:20260406T140818Z
UID:10002080-1769529600-1769535000@masscsw.org
SUMMARY:Full Commission Meeting
DESCRIPTION:For FY26\, MCSW’s Monthly Full Commission Meeting is held on the Fourth Tuesday of every month from 4:30 – 6:00pm ET.  Chaired by Commissioner Mary-dith Tuitt. Register to join. \n\n\n\n\n\n9-24-2024 Full Commission Agenda (1)Download
URL:https://masscsw.org/event/full-commission-meeting-16/2026-01-27/
CATEGORIES:Full Commission,State Commissions
ATTACH;FMTTYPE=image/png:https://masscsw.org/wp-content/uploads/2023/09/Committee-Meeting-Banner-Evergreen-5.png
END:VEVENT
BEGIN:VEVENT
DTSTART;TZID=America/New_York:20260120T163000
DTEND;TZID=America/New_York:20260120T173000
DTSTAMP:20260423T044507
CREATED:20260116T141021Z
LAST-MODIFIED:20260116T141024Z
UID:10001931-1768926600-1768930200@masscsw.org
SUMMARY:Executive Committee Meeting
DESCRIPTION:Rain date: Virtual – this event will take place rain or shine. \n\n\n\nFees: Free and open to all.\n\n\n\n\nFor FY26\, MCSW’s monthly Executive Committee Meeting is held on the Third Tuesday of every month from 4:30pm – 5:30pm ET. Chaired by Commissioner Mary-dith Tuitt. Register to join. \n\n\n\n\n\n1-20-2026 Executive Committee AgendaDownload
URL:https://masscsw.org/event/executive-committee-meeting-33/
CATEGORIES:State Commissions,Executive Committee
ATTACH;FMTTYPE=image/png:https://masscsw.org/wp-content/uploads/2023/09/Committee-Meeting-Banner-Evergreen.png
END:VEVENT
BEGIN:VEVENT
DTSTART;TZID=America/New_York:20260114T160000
DTEND;TZID=America/New_York:20260114T170000
DTSTAMP:20260423T044508
CREATED:20260113T132832Z
LAST-MODIFIED:20260113T132838Z
UID:10001993-1768406400-1768410000@masscsw.org
SUMMARY:Finance Committee Meeting
DESCRIPTION:For FY26\, MCSW’s Monthly Finance Committee Meeting is held on the Second Wednesday of every month from 4:00pm – 5:00pm. Chaired by MCSW Treasurer and Finance Chair Audrey Hall. Register to join. \n\n\n\n\n\n01.14.2026 FC AgendaDownload
URL:https://masscsw.org/event/finance-committee-meeting-29/
CATEGORIES:State Commissions,Finance Committee
ATTACH;FMTTYPE=image/png:https://masscsw.org/wp-content/uploads/2023/09/Committee-Meeting-Banner-Evergreen-1.png
END:VEVENT
BEGIN:VEVENT
DTSTART;TZID=America/New_York:20260113T160000
DTEND;TZID=America/New_York:20260113T170000
DTSTAMP:20260423T044508
CREATED:20260108T141445Z
LAST-MODIFIED:20260109T212040Z
UID:10001868-1768320000-1768323600@masscsw.org
SUMMARY:Program and Planning Committee Meeting
DESCRIPTION:Rain date: Virtual – this event will take place rain or shine.\n\n\n\nFees: Free and open to all.\n\n\n\n\nFor FY26\, MCSW’s monthly Program and Planning Committee Meeting is held on the Second Tuesday of every month from 4:00 – 5:00pm ET.  Chaired by Commissioner Kim Shea. Register to join. \n\n\n\n\n\n\n\n1.13.2026 Program Planning Agenda (1)Download
URL:https://masscsw.org/event/program-and-planning-committee-meeting-26/
CATEGORIES:State Commissions,Program & Planning Committee
ATTACH;FMTTYPE=image/png:https://masscsw.org/wp-content/uploads/2023/09/Committee-Meeting-Banner-Evergreen-4.png
ORGANIZER;CN="Shaitia Spruell":MAILTO:Shaitia.Spruell@mass.gov
END:VEVENT
BEGIN:VEVENT
DTSTART;TZID=America/New_York:20260106T190000
DTEND;TZID=America/New_York:20260106T200000
DTSTAMP:20260423T044508
CREATED:20250707T154627Z
LAST-MODIFIED:20250707T154630Z
UID:10000348-1767726000-1767729600@masscsw.org
SUMMARY:Regional Chairs Meeting
DESCRIPTION:Rain date: Virtual – this event will take place rain or shine. \n\n\n\nFees: Free and open to all.\n\n\n\n\nFor FY26\, MCSW’s monthly Regional Chairs Meeting is held on the first Tuesday of every month from 7:00 – 8:00pm ET. Register to join.
URL:https://masscsw.org/event/regional-chairs-meeting-4/2026-01-06/
CATEGORIES:State Commissions,Regional Chairs Meeting
ATTACH;FMTTYPE=image/png:https://masscsw.org/wp-content/uploads/2023/09/Committee-Meeting-Banner-Evergreen-3.png
END:VEVENT
BEGIN:VEVENT
DTSTART;TZID=America/New_York:20260106T173000
DTEND;TZID=America/New_York:20260106T183000
DTSTAMP:20260423T044508
CREATED:20260102T145212Z
LAST-MODIFIED:20260102T145353Z
UID:10001327-1767720600-1767724200@masscsw.org
SUMMARY:Legislative and Public Policy Committee Meeting
DESCRIPTION:Rain date: Virtual – this event will take place rain or shine. \n\n\n\nFees: Free and open to all.\n\n\n\n\nFor FY26\, MCSW’s monthly Legislative and Public Policy Committee Meeting is held on the First Tuesday of every month from 5:30-6:30pm ET.  Chaired by Commissioner Guimel DeCarvalho. \n\n\n\n\n\n\n\n1.6.26 Legislative Meeting AgendaDownload
URL:https://masscsw.org/event/legislative-and-public-policy-committee-meeting-29/
CATEGORIES:State Commissions,Legislative & Public Policy Committee
ATTACH;FMTTYPE=image/png:https://masscsw.org/wp-content/uploads/2023/09/Committee-Meeting-Banner-Evergreen-2.png
END:VEVENT
BEGIN:VEVENT
DTSTART;TZID=America/New_York:20251223T160000
DTEND;TZID=America/New_York:20251223T173000
DTSTAMP:20260423T044508
CREATED:20240920T180545Z
LAST-MODIFIED:20260406T140818Z
UID:10002079-1766505600-1766511000@masscsw.org
SUMMARY:Full Commission Meeting
DESCRIPTION:For FY26\, MCSW’s Monthly Full Commission Meeting is held on the Fourth Tuesday of every month from 4:30 – 6:00pm ET.  Chaired by Commissioner Mary-dith Tuitt. Register to join. \n\n\n\n\n\n9-24-2024 Full Commission Agenda (1)Download
URL:https://masscsw.org/event/full-commission-meeting-16/2025-12-23/
CATEGORIES:Full Commission,State Commissions
ATTACH;FMTTYPE=image/png:https://masscsw.org/wp-content/uploads/2023/09/Committee-Meeting-Banner-Evergreen-5.png
END:VEVENT
BEGIN:VEVENT
DTSTART;TZID=America/New_York:20251217T163000
DTEND;TZID=America/New_York:20251217T180000
DTSTAMP:20260423T044508
CREATED:20251010T163035Z
LAST-MODIFIED:20251215T213214Z
UID:10001528-1765989000-1765994400@masscsw.org
SUMMARY:Full Commission Meeting
DESCRIPTION:For FY26\, MCSW’s Monthly Full Commission Meeting is typically held on the Fourth Tuesday of every month from 4:00 – 5:30pm ET.  Chaired by Commissioner Mary-dith Tuitt. Register to join. **Please note the date and time of this December meeting has been adjusted.  \n\n\n\n\n\nDecember 17 2025 Full Commission AgendaDownload
URL:https://masscsw.org/event/full-commission-meeting-29/
CATEGORIES:Full Commission,State Commissions
ATTACH;FMTTYPE=image/png:https://masscsw.org/wp-content/uploads/2023/09/Committee-Meeting-Banner-Evergreen-5.png
END:VEVENT
BEGIN:VEVENT
DTSTART;TZID=America/New_York:20251216T163000
DTEND;TZID=America/New_York:20251216T173000
DTSTAMP:20260423T044508
CREATED:20251212T173447Z
LAST-MODIFIED:20251212T173452Z
UID:10001930-1765902600-1765906200@masscsw.org
SUMMARY:Executive Committee Meeting
DESCRIPTION:Rain date: Virtual – this event will take place rain or shine. \n\n\n\nFees: Free and open to all.\n\n\n\n\nFor FY26\, MCSW’s monthly Executive Committee Meeting is held on the Third Tuesday of every month from 4:30pm – 5:30pm ET. Chaired by Commissioner Mary-dith Tuitt. Register to join. \n\n\n\n\n\n12-16-2025 Executive Committee AgendaDownload
URL:https://masscsw.org/event/executive-committee-meeting-32/
CATEGORIES:State Commissions,Executive Committee
ATTACH;FMTTYPE=image/png:https://masscsw.org/wp-content/uploads/2023/09/Committee-Meeting-Banner-Evergreen.png
END:VEVENT
END:VCALENDAR