BEGIN:VCALENDAR
VERSION:2.0
PRODID:-//Massachusetts Commission on the Status of Women - ECPv6.15.20//NONSGML v1.0//EN
CALSCALE:GREGORIAN
METHOD:PUBLISH
X-WR-CALNAME:Massachusetts Commission on the Status of Women
X-ORIGINAL-URL:https://masscsw.org
X-WR-CALDESC:Events for Massachusetts Commission on the Status of Women
REFRESH-INTERVAL;VALUE=DURATION:PT1H
X-Robots-Tag:noindex
X-PUBLISHED-TTL:PT1H
BEGIN:VTIMEZONE
TZID:America/New_York
BEGIN:DAYLIGHT
TZOFFSETFROM:-0500
TZOFFSETTO:-0400
TZNAME:EDT
DTSTART:20250309T070000
END:DAYLIGHT
BEGIN:STANDARD
TZOFFSETFROM:-0400
TZOFFSETTO:-0500
TZNAME:EST
DTSTART:20251102T060000
END:STANDARD
BEGIN:DAYLIGHT
TZOFFSETFROM:-0500
TZOFFSETTO:-0400
TZNAME:EDT
DTSTART:20260308T070000
END:DAYLIGHT
BEGIN:STANDARD
TZOFFSETFROM:-0400
TZOFFSETTO:-0500
TZNAME:EST
DTSTART:20261101T060000
END:STANDARD
BEGIN:DAYLIGHT
TZOFFSETFROM:-0500
TZOFFSETTO:-0400
TZNAME:EDT
DTSTART:20270314T070000
END:DAYLIGHT
BEGIN:STANDARD
TZOFFSETFROM:-0400
TZOFFSETTO:-0500
TZNAME:EST
DTSTART:20271107T060000
END:STANDARD
END:VTIMEZONE
BEGIN:VEVENT
DTSTART;TZID=America/New_York:20260513T160000
DTEND;TZID=America/New_York:20260513T170000
DTSTAMP:20260423T061422
CREATED:20260408T141134Z
LAST-MODIFIED:20260408T141135Z
UID:10001997-1778688000-1778691600@masscsw.org
SUMMARY:Finance Committee Meeting
DESCRIPTION:For FY26\, MCSW’s Monthly Finance Committee Meeting is held on the Second Wednesday of every month from 4:00pm – 5:00pm. Chaired by MCSW Treasurer and Finance Chair Audrey Hall. Register to join.
URL:https://masscsw.org/event/finance-committee-meeting-35/
CATEGORIES:State Commissions,Finance Committee
ATTACH;FMTTYPE=image/png:https://masscsw.org/wp-content/uploads/2023/09/Committee-Meeting-Banner-Evergreen-1.png
END:VEVENT
BEGIN:VEVENT
DTSTART;TZID=America/New_York:20260610T160000
DTEND;TZID=America/New_York:20260610T170000
DTSTAMP:20260423T061422
CREATED:20260408T140226Z
LAST-MODIFIED:20260408T140229Z
UID:10001998-1781107200-1781110800@masscsw.org
SUMMARY:Finance Committee Meeting
DESCRIPTION:For FY26\, MCSW’s Monthly Finance Committee Meeting is held on the Second Wednesday of every month from 4:00pm – 5:00pm. Chaired by MCSW Treasurer and Finance Chair Audrey Hall. Register to join.
URL:https://masscsw.org/event/finance-committee-meeting-33/
CATEGORIES:State Commissions,Finance Committee
ATTACH;FMTTYPE=image/png:https://masscsw.org/wp-content/uploads/2023/09/Committee-Meeting-Banner-Evergreen-1.png
END:VEVENT
BEGIN:VEVENT
DTSTART;TZID=America/New_York:20260708T160000
DTEND;TZID=America/New_York:20260708T170000
DTSTAMP:20260423T061422
CREATED:20260408T140342Z
LAST-MODIFIED:20260408T140500Z
UID:10001999-1783526400-1783530000@masscsw.org
SUMMARY:Finance Committee Meeting
DESCRIPTION:For FY26\, MCSW’s Monthly Finance Committee Meeting is held on the Second Wednesday of every month from 4:00pm – 5:00pm. Chaired by MCSW Treasurer and Finance Chair Audrey Hall. Register to join.
URL:https://masscsw.org/event/finance-committee-meeting-34/
CATEGORIES:State Commissions,Finance Committee
ATTACH;FMTTYPE=image/png:https://masscsw.org/wp-content/uploads/2023/09/Committee-Meeting-Banner-Evergreen-1.png
END:VEVENT
END:VCALENDAR